BEGIN:VCALENDAR
VERSION:2.0
PRODID:-//UpValley Family Centers - ECPv6.15.17.1//NONSGML v1.0//EN
CALSCALE:GREGORIAN
METHOD:PUBLISH
X-ORIGINAL-URL:https://upvalleyfamilycenters.org
X-WR-CALDESC:Events for UpValley Family Centers
REFRESH-INTERVAL;VALUE=DURATION:PT1H
X-Robots-Tag:noindex
X-PUBLISHED-TTL:PT1H
BEGIN:VTIMEZONE
TZID:America/Los_Angeles
BEGIN:DAYLIGHT
TZOFFSETFROM:-0800
TZOFFSETTO:-0700
TZNAME:PDT
DTSTART:20250309T100000
END:DAYLIGHT
BEGIN:STANDARD
TZOFFSETFROM:-0700
TZOFFSETTO:-0800
TZNAME:PST
DTSTART:20251102T090000
END:STANDARD
BEGIN:DAYLIGHT
TZOFFSETFROM:-0800
TZOFFSETTO:-0700
TZNAME:PDT
DTSTART:20260308T100000
END:DAYLIGHT
BEGIN:STANDARD
TZOFFSETFROM:-0700
TZOFFSETTO:-0800
TZNAME:PST
DTSTART:20261101T090000
END:STANDARD
BEGIN:DAYLIGHT
TZOFFSETFROM:-0800
TZOFFSETTO:-0700
TZNAME:PDT
DTSTART:20270314T100000
END:DAYLIGHT
BEGIN:STANDARD
TZOFFSETFROM:-0700
TZOFFSETTO:-0800
TZNAME:PST
DTSTART:20271107T090000
END:STANDARD
END:VTIMEZONE
BEGIN:VEVENT
DTSTART;TZID=America/Los_Angeles:20260324T183000
DTEND;TZID=America/Los_Angeles:20260324T200000
DTSTAMP:20260422T054812
CREATED:20260105T170258Z
LAST-MODIFIED:20260217T191729Z
UID:10004275-1774377000-1774382400@upvalleyfamilycenters.org
SUMMARY:Citizenship Preparation Class
DESCRIPTION:This course is designed to help prepare students to pass the U.S. Immigration Citizenship and Naturalization Interview and Exam.  Speaking\, reading\, writing\, and civics practice will assist second language learners to reach their goal of becoming United States citizens. \n6:30pm – 8:00pm \nTuesdays and Thursdays \n03/12/26 – 05/19/26 \nCalistoga \nFree childcare will be provided by UpValley Family Centers for children over 2 years old and potty trained. \nTo register\, please call Eva Tamayo\, Immigration Program Community Educator at UpValley Family Centers\, at (707) 965-5010 \n 
URL:https://upvalleyfamilycenters.org/event/citizenship-preparation-class/2026-03-24/
LOCATION:CA
CATEGORIES:Adults,Calistoga,Immigrants
ATTACH;FMTTYPE=application/pdf:https://upvalleyfamilycenters.org/wp-content/uploads/2026/01/Spring-2026-Citizenship-Classes-Calistoga-Updated-1.pdf
END:VEVENT
BEGIN:VEVENT
DTSTART;TZID=America/Los_Angeles:20260326T183000
DTEND;TZID=America/Los_Angeles:20260326T200000
DTSTAMP:20260422T054812
CREATED:20260105T170258Z
LAST-MODIFIED:20260217T191729Z
UID:10004276-1774549800-1774555200@upvalleyfamilycenters.org
SUMMARY:Citizenship Preparation Class
DESCRIPTION:This course is designed to help prepare students to pass the U.S. Immigration Citizenship and Naturalization Interview and Exam.  Speaking\, reading\, writing\, and civics practice will assist second language learners to reach their goal of becoming United States citizens. \n6:30pm – 8:00pm \nTuesdays and Thursdays \n03/12/26 – 05/19/26 \nCalistoga \nFree childcare will be provided by UpValley Family Centers for children over 2 years old and potty trained. \nTo register\, please call Eva Tamayo\, Immigration Program Community Educator at UpValley Family Centers\, at (707) 965-5010 \n 
URL:https://upvalleyfamilycenters.org/event/citizenship-preparation-class/2026-03-26/
LOCATION:CA
CATEGORIES:Adults,Calistoga,Immigrants
ATTACH;FMTTYPE=application/pdf:https://upvalleyfamilycenters.org/wp-content/uploads/2026/01/Spring-2026-Citizenship-Classes-Calistoga-Updated-1.pdf
END:VEVENT
BEGIN:VEVENT
DTSTART;TZID=America/Los_Angeles:20260331T183000
DTEND;TZID=America/Los_Angeles:20260331T200000
DTSTAMP:20260422T054812
CREATED:20260105T170258Z
LAST-MODIFIED:20260217T191729Z
UID:10004277-1774981800-1774987200@upvalleyfamilycenters.org
SUMMARY:Citizenship Preparation Class
DESCRIPTION:This course is designed to help prepare students to pass the U.S. Immigration Citizenship and Naturalization Interview and Exam.  Speaking\, reading\, writing\, and civics practice will assist second language learners to reach their goal of becoming United States citizens. \n6:30pm – 8:00pm \nTuesdays and Thursdays \n03/12/26 – 05/19/26 \nCalistoga \nFree childcare will be provided by UpValley Family Centers for children over 2 years old and potty trained. \nTo register\, please call Eva Tamayo\, Immigration Program Community Educator at UpValley Family Centers\, at (707) 965-5010 \n 
URL:https://upvalleyfamilycenters.org/event/citizenship-preparation-class/2026-03-31/
LOCATION:CA
CATEGORIES:Adults,Calistoga,Immigrants
ATTACH;FMTTYPE=application/pdf:https://upvalleyfamilycenters.org/wp-content/uploads/2026/01/Spring-2026-Citizenship-Classes-Calistoga-Updated-1.pdf
END:VEVENT
BEGIN:VEVENT
DTSTART;TZID=America/Los_Angeles:20260402T183000
DTEND;TZID=America/Los_Angeles:20260402T200000
DTSTAMP:20260422T054812
CREATED:20260105T170258Z
LAST-MODIFIED:20260217T191729Z
UID:10004278-1775154600-1775160000@upvalleyfamilycenters.org
SUMMARY:Citizenship Preparation Class
DESCRIPTION:This course is designed to help prepare students to pass the U.S. Immigration Citizenship and Naturalization Interview and Exam.  Speaking\, reading\, writing\, and civics practice will assist second language learners to reach their goal of becoming United States citizens. \n6:30pm – 8:00pm \nTuesdays and Thursdays \n03/12/26 – 05/19/26 \nCalistoga \nFree childcare will be provided by UpValley Family Centers for children over 2 years old and potty trained. \nTo register\, please call Eva Tamayo\, Immigration Program Community Educator at UpValley Family Centers\, at (707) 965-5010 \n 
URL:https://upvalleyfamilycenters.org/event/citizenship-preparation-class/2026-04-02/
LOCATION:CA
CATEGORIES:Adults,Calistoga,Immigrants
ATTACH;FMTTYPE=application/pdf:https://upvalleyfamilycenters.org/wp-content/uploads/2026/01/Spring-2026-Citizenship-Classes-Calistoga-Updated-1.pdf
END:VEVENT
BEGIN:VEVENT
DTSTART;TZID=America/Los_Angeles:20260407T183000
DTEND;TZID=America/Los_Angeles:20260407T200000
DTSTAMP:20260422T054812
CREATED:20260105T170258Z
LAST-MODIFIED:20260217T191729Z
UID:10004279-1775586600-1775592000@upvalleyfamilycenters.org
SUMMARY:Citizenship Preparation Class
DESCRIPTION:This course is designed to help prepare students to pass the U.S. Immigration Citizenship and Naturalization Interview and Exam.  Speaking\, reading\, writing\, and civics practice will assist second language learners to reach their goal of becoming United States citizens. \n6:30pm – 8:00pm \nTuesdays and Thursdays \n03/12/26 – 05/19/26 \nCalistoga \nFree childcare will be provided by UpValley Family Centers for children over 2 years old and potty trained. \nTo register\, please call Eva Tamayo\, Immigration Program Community Educator at UpValley Family Centers\, at (707) 965-5010 \n 
URL:https://upvalleyfamilycenters.org/event/citizenship-preparation-class/2026-04-07/
LOCATION:CA
CATEGORIES:Adults,Calistoga,Immigrants
ATTACH;FMTTYPE=application/pdf:https://upvalleyfamilycenters.org/wp-content/uploads/2026/01/Spring-2026-Citizenship-Classes-Calistoga-Updated-1.pdf
END:VEVENT
BEGIN:VEVENT
DTSTART;TZID=America/Los_Angeles:20260409T183000
DTEND;TZID=America/Los_Angeles:20260409T200000
DTSTAMP:20260422T054812
CREATED:20260105T170258Z
LAST-MODIFIED:20260217T191729Z
UID:10004280-1775759400-1775764800@upvalleyfamilycenters.org
SUMMARY:Citizenship Preparation Class
DESCRIPTION:This course is designed to help prepare students to pass the U.S. Immigration Citizenship and Naturalization Interview and Exam.  Speaking\, reading\, writing\, and civics practice will assist second language learners to reach their goal of becoming United States citizens. \n6:30pm – 8:00pm \nTuesdays and Thursdays \n03/12/26 – 05/19/26 \nCalistoga \nFree childcare will be provided by UpValley Family Centers for children over 2 years old and potty trained. \nTo register\, please call Eva Tamayo\, Immigration Program Community Educator at UpValley Family Centers\, at (707) 965-5010 \n 
URL:https://upvalleyfamilycenters.org/event/citizenship-preparation-class/2026-04-09/
LOCATION:CA
CATEGORIES:Adults,Calistoga,Immigrants
ATTACH;FMTTYPE=application/pdf:https://upvalleyfamilycenters.org/wp-content/uploads/2026/01/Spring-2026-Citizenship-Classes-Calistoga-Updated-1.pdf
END:VEVENT
BEGIN:VEVENT
DTSTART;TZID=America/Los_Angeles:20260414T183000
DTEND;TZID=America/Los_Angeles:20260414T200000
DTSTAMP:20260422T054812
CREATED:20260105T170258Z
LAST-MODIFIED:20260217T191729Z
UID:10004281-1776191400-1776196800@upvalleyfamilycenters.org
SUMMARY:Citizenship Preparation Class
DESCRIPTION:This course is designed to help prepare students to pass the U.S. Immigration Citizenship and Naturalization Interview and Exam.  Speaking\, reading\, writing\, and civics practice will assist second language learners to reach their goal of becoming United States citizens. \n6:30pm – 8:00pm \nTuesdays and Thursdays \n03/12/26 – 05/19/26 \nCalistoga \nFree childcare will be provided by UpValley Family Centers for children over 2 years old and potty trained. \nTo register\, please call Eva Tamayo\, Immigration Program Community Educator at UpValley Family Centers\, at (707) 965-5010 \n 
URL:https://upvalleyfamilycenters.org/event/citizenship-preparation-class/2026-04-14/
LOCATION:CA
CATEGORIES:Adults,Calistoga,Immigrants
ATTACH;FMTTYPE=application/pdf:https://upvalleyfamilycenters.org/wp-content/uploads/2026/01/Spring-2026-Citizenship-Classes-Calistoga-Updated-1.pdf
END:VEVENT
BEGIN:VEVENT
DTSTART;TZID=America/Los_Angeles:20260416T183000
DTEND;TZID=America/Los_Angeles:20260416T200000
DTSTAMP:20260422T054812
CREATED:20260105T170258Z
LAST-MODIFIED:20260217T191729Z
UID:10004282-1776364200-1776369600@upvalleyfamilycenters.org
SUMMARY:Citizenship Preparation Class
DESCRIPTION:This course is designed to help prepare students to pass the U.S. Immigration Citizenship and Naturalization Interview and Exam.  Speaking\, reading\, writing\, and civics practice will assist second language learners to reach their goal of becoming United States citizens. \n6:30pm – 8:00pm \nTuesdays and Thursdays \n03/12/26 – 05/19/26 \nCalistoga \nFree childcare will be provided by UpValley Family Centers for children over 2 years old and potty trained. \nTo register\, please call Eva Tamayo\, Immigration Program Community Educator at UpValley Family Centers\, at (707) 965-5010 \n 
URL:https://upvalleyfamilycenters.org/event/citizenship-preparation-class/2026-04-16/
LOCATION:CA
CATEGORIES:Adults,Calistoga,Immigrants
ATTACH;FMTTYPE=application/pdf:https://upvalleyfamilycenters.org/wp-content/uploads/2026/01/Spring-2026-Citizenship-Classes-Calistoga-Updated-1.pdf
END:VEVENT
BEGIN:VEVENT
DTSTART;TZID=America/Los_Angeles:20260421T183000
DTEND;TZID=America/Los_Angeles:20260421T200000
DTSTAMP:20260422T054812
CREATED:20260105T170258Z
LAST-MODIFIED:20260217T191729Z
UID:10004283-1776796200-1776801600@upvalleyfamilycenters.org
SUMMARY:Citizenship Preparation Class
DESCRIPTION:This course is designed to help prepare students to pass the U.S. Immigration Citizenship and Naturalization Interview and Exam.  Speaking\, reading\, writing\, and civics practice will assist second language learners to reach their goal of becoming United States citizens. \n6:30pm – 8:00pm \nTuesdays and Thursdays \n03/12/26 – 05/19/26 \nCalistoga \nFree childcare will be provided by UpValley Family Centers for children over 2 years old and potty trained. \nTo register\, please call Eva Tamayo\, Immigration Program Community Educator at UpValley Family Centers\, at (707) 965-5010 \n 
URL:https://upvalleyfamilycenters.org/event/citizenship-preparation-class/2026-04-21/
LOCATION:CA
CATEGORIES:Adults,Calistoga,Immigrants
ATTACH;FMTTYPE=application/pdf:https://upvalleyfamilycenters.org/wp-content/uploads/2026/01/Spring-2026-Citizenship-Classes-Calistoga-Updated-1.pdf
END:VEVENT
BEGIN:VEVENT
DTSTART;TZID=America/Los_Angeles:20260423T183000
DTEND;TZID=America/Los_Angeles:20260423T200000
DTSTAMP:20260422T054812
CREATED:20260105T170258Z
LAST-MODIFIED:20260217T191729Z
UID:10004284-1776969000-1776974400@upvalleyfamilycenters.org
SUMMARY:Citizenship Preparation Class
DESCRIPTION:This course is designed to help prepare students to pass the U.S. Immigration Citizenship and Naturalization Interview and Exam.  Speaking\, reading\, writing\, and civics practice will assist second language learners to reach their goal of becoming United States citizens. \n6:30pm – 8:00pm \nTuesdays and Thursdays \n03/12/26 – 05/19/26 \nCalistoga \nFree childcare will be provided by UpValley Family Centers for children over 2 years old and potty trained. \nTo register\, please call Eva Tamayo\, Immigration Program Community Educator at UpValley Family Centers\, at (707) 965-5010 \n 
URL:https://upvalleyfamilycenters.org/event/citizenship-preparation-class/2026-04-23/
LOCATION:CA
CATEGORIES:Adults,Calistoga,Immigrants
ATTACH;FMTTYPE=application/pdf:https://upvalleyfamilycenters.org/wp-content/uploads/2026/01/Spring-2026-Citizenship-Classes-Calistoga-Updated-1.pdf
END:VEVENT
BEGIN:VEVENT
DTSTART;TZID=America/Los_Angeles:20260428T183000
DTEND;TZID=America/Los_Angeles:20260428T200000
DTSTAMP:20260422T054812
CREATED:20260105T170258Z
LAST-MODIFIED:20260217T191729Z
UID:10004285-1777401000-1777406400@upvalleyfamilycenters.org
SUMMARY:Citizenship Preparation Class
DESCRIPTION:This course is designed to help prepare students to pass the U.S. Immigration Citizenship and Naturalization Interview and Exam.  Speaking\, reading\, writing\, and civics practice will assist second language learners to reach their goal of becoming United States citizens. \n6:30pm – 8:00pm \nTuesdays and Thursdays \n03/12/26 – 05/19/26 \nCalistoga \nFree childcare will be provided by UpValley Family Centers for children over 2 years old and potty trained. \nTo register\, please call Eva Tamayo\, Immigration Program Community Educator at UpValley Family Centers\, at (707) 965-5010 \n 
URL:https://upvalleyfamilycenters.org/event/citizenship-preparation-class/2026-04-28/
LOCATION:CA
CATEGORIES:Adults,Calistoga,Immigrants
ATTACH;FMTTYPE=application/pdf:https://upvalleyfamilycenters.org/wp-content/uploads/2026/01/Spring-2026-Citizenship-Classes-Calistoga-Updated-1.pdf
END:VEVENT
BEGIN:VEVENT
DTSTART;TZID=America/Los_Angeles:20260430T183000
DTEND;TZID=America/Los_Angeles:20260430T200000
DTSTAMP:20260422T054812
CREATED:20260105T170258Z
LAST-MODIFIED:20260217T191729Z
UID:10004286-1777573800-1777579200@upvalleyfamilycenters.org
SUMMARY:Citizenship Preparation Class
DESCRIPTION:This course is designed to help prepare students to pass the U.S. Immigration Citizenship and Naturalization Interview and Exam.  Speaking\, reading\, writing\, and civics practice will assist second language learners to reach their goal of becoming United States citizens. \n6:30pm – 8:00pm \nTuesdays and Thursdays \n03/12/26 – 05/19/26 \nCalistoga \nFree childcare will be provided by UpValley Family Centers for children over 2 years old and potty trained. \nTo register\, please call Eva Tamayo\, Immigration Program Community Educator at UpValley Family Centers\, at (707) 965-5010 \n 
URL:https://upvalleyfamilycenters.org/event/citizenship-preparation-class/2026-04-30/
LOCATION:CA
CATEGORIES:Adults,Calistoga,Immigrants
ATTACH;FMTTYPE=application/pdf:https://upvalleyfamilycenters.org/wp-content/uploads/2026/01/Spring-2026-Citizenship-Classes-Calistoga-Updated-1.pdf
END:VEVENT
BEGIN:VEVENT
DTSTART;TZID=America/Los_Angeles:20260505T183000
DTEND;TZID=America/Los_Angeles:20260505T200000
DTSTAMP:20260422T054812
CREATED:20260105T170258Z
LAST-MODIFIED:20260217T191729Z
UID:10004287-1778005800-1778011200@upvalleyfamilycenters.org
SUMMARY:Citizenship Preparation Class
DESCRIPTION:This course is designed to help prepare students to pass the U.S. Immigration Citizenship and Naturalization Interview and Exam.  Speaking\, reading\, writing\, and civics practice will assist second language learners to reach their goal of becoming United States citizens. \n6:30pm – 8:00pm \nTuesdays and Thursdays \n03/12/26 – 05/19/26 \nCalistoga \nFree childcare will be provided by UpValley Family Centers for children over 2 years old and potty trained. \nTo register\, please call Eva Tamayo\, Immigration Program Community Educator at UpValley Family Centers\, at (707) 965-5010 \n 
URL:https://upvalleyfamilycenters.org/event/citizenship-preparation-class/2026-05-05/
LOCATION:CA
CATEGORIES:Adults,Calistoga,Immigrants
ATTACH;FMTTYPE=application/pdf:https://upvalleyfamilycenters.org/wp-content/uploads/2026/01/Spring-2026-Citizenship-Classes-Calistoga-Updated-1.pdf
END:VEVENT
BEGIN:VEVENT
DTSTART;TZID=America/Los_Angeles:20260507T183000
DTEND;TZID=America/Los_Angeles:20260507T200000
DTSTAMP:20260422T054812
CREATED:20260105T170258Z
LAST-MODIFIED:20260217T191729Z
UID:10004288-1778178600-1778184000@upvalleyfamilycenters.org
SUMMARY:Citizenship Preparation Class
DESCRIPTION:This course is designed to help prepare students to pass the U.S. Immigration Citizenship and Naturalization Interview and Exam.  Speaking\, reading\, writing\, and civics practice will assist second language learners to reach their goal of becoming United States citizens. \n6:30pm – 8:00pm \nTuesdays and Thursdays \n03/12/26 – 05/19/26 \nCalistoga \nFree childcare will be provided by UpValley Family Centers for children over 2 years old and potty trained. \nTo register\, please call Eva Tamayo\, Immigration Program Community Educator at UpValley Family Centers\, at (707) 965-5010 \n 
URL:https://upvalleyfamilycenters.org/event/citizenship-preparation-class/2026-05-07/
LOCATION:CA
CATEGORIES:Adults,Calistoga,Immigrants
ATTACH;FMTTYPE=application/pdf:https://upvalleyfamilycenters.org/wp-content/uploads/2026/01/Spring-2026-Citizenship-Classes-Calistoga-Updated-1.pdf
END:VEVENT
BEGIN:VEVENT
DTSTART;TZID=America/Los_Angeles:20260512T183000
DTEND;TZID=America/Los_Angeles:20260512T200000
DTSTAMP:20260422T054812
CREATED:20260105T170258Z
LAST-MODIFIED:20260217T191729Z
UID:10004289-1778610600-1778616000@upvalleyfamilycenters.org
SUMMARY:Citizenship Preparation Class
DESCRIPTION:This course is designed to help prepare students to pass the U.S. Immigration Citizenship and Naturalization Interview and Exam.  Speaking\, reading\, writing\, and civics practice will assist second language learners to reach their goal of becoming United States citizens. \n6:30pm – 8:00pm \nTuesdays and Thursdays \n03/12/26 – 05/19/26 \nCalistoga \nFree childcare will be provided by UpValley Family Centers for children over 2 years old and potty trained. \nTo register\, please call Eva Tamayo\, Immigration Program Community Educator at UpValley Family Centers\, at (707) 965-5010 \n 
URL:https://upvalleyfamilycenters.org/event/citizenship-preparation-class/2026-05-12/
LOCATION:CA
CATEGORIES:Adults,Calistoga,Immigrants
ATTACH;FMTTYPE=application/pdf:https://upvalleyfamilycenters.org/wp-content/uploads/2026/01/Spring-2026-Citizenship-Classes-Calistoga-Updated-1.pdf
END:VEVENT
BEGIN:VEVENT
DTSTART;TZID=America/Los_Angeles:20260514T183000
DTEND;TZID=America/Los_Angeles:20260514T200000
DTSTAMP:20260422T054812
CREATED:20260105T170258Z
LAST-MODIFIED:20260217T191729Z
UID:10004290-1778783400-1778788800@upvalleyfamilycenters.org
SUMMARY:Citizenship Preparation Class
DESCRIPTION:This course is designed to help prepare students to pass the U.S. Immigration Citizenship and Naturalization Interview and Exam.  Speaking\, reading\, writing\, and civics practice will assist second language learners to reach their goal of becoming United States citizens. \n6:30pm – 8:00pm \nTuesdays and Thursdays \n03/12/26 – 05/19/26 \nCalistoga \nFree childcare will be provided by UpValley Family Centers for children over 2 years old and potty trained. \nTo register\, please call Eva Tamayo\, Immigration Program Community Educator at UpValley Family Centers\, at (707) 965-5010 \n 
URL:https://upvalleyfamilycenters.org/event/citizenship-preparation-class/2026-05-14/
LOCATION:CA
CATEGORIES:Adults,Calistoga,Immigrants
ATTACH;FMTTYPE=application/pdf:https://upvalleyfamilycenters.org/wp-content/uploads/2026/01/Spring-2026-Citizenship-Classes-Calistoga-Updated-1.pdf
END:VEVENT
BEGIN:VEVENT
DTSTART;TZID=America/Los_Angeles:20260519T183000
DTEND;TZID=America/Los_Angeles:20260519T200000
DTSTAMP:20260422T054812
CREATED:20260105T170258Z
LAST-MODIFIED:20260217T191729Z
UID:10004291-1779215400-1779220800@upvalleyfamilycenters.org
SUMMARY:Citizenship Preparation Class
DESCRIPTION:This course is designed to help prepare students to pass the U.S. Immigration Citizenship and Naturalization Interview and Exam.  Speaking\, reading\, writing\, and civics practice will assist second language learners to reach their goal of becoming United States citizens. \n6:30pm – 8:00pm \nTuesdays and Thursdays \n03/12/26 – 05/19/26 \nCalistoga \nFree childcare will be provided by UpValley Family Centers for children over 2 years old and potty trained. \nTo register\, please call Eva Tamayo\, Immigration Program Community Educator at UpValley Family Centers\, at (707) 965-5010 \n 
URL:https://upvalleyfamilycenters.org/event/citizenship-preparation-class/2026-05-19/
LOCATION:CA
CATEGORIES:Adults,Calistoga,Immigrants
ATTACH;FMTTYPE=application/pdf:https://upvalleyfamilycenters.org/wp-content/uploads/2026/01/Spring-2026-Citizenship-Classes-Calistoga-Updated-1.pdf
END:VEVENT
END:VCALENDAR