BEGIN:VCALENDAR
VERSION:2.0
PRODID:-//UpValley Family Centers - ECPv6.15.17.1//NONSGML v1.0//EN
CALSCALE:GREGORIAN
METHOD:PUBLISH
X-WR-CALNAME:UpValley Family Centers
X-ORIGINAL-URL:https://upvalleyfamilycenters.org
X-WR-CALDESC:Events for UpValley Family Centers
REFRESH-INTERVAL;VALUE=DURATION:PT1H
X-Robots-Tag:noindex
X-PUBLISHED-TTL:PT1H
BEGIN:VTIMEZONE
TZID:America/Los_Angeles
BEGIN:DAYLIGHT
TZOFFSETFROM:-0800
TZOFFSETTO:-0700
TZNAME:PDT
DTSTART:20230312T100000
END:DAYLIGHT
BEGIN:STANDARD
TZOFFSETFROM:-0700
TZOFFSETTO:-0800
TZNAME:PST
DTSTART:20231105T090000
END:STANDARD
BEGIN:DAYLIGHT
TZOFFSETFROM:-0800
TZOFFSETTO:-0700
TZNAME:PDT
DTSTART:20240310T100000
END:DAYLIGHT
BEGIN:STANDARD
TZOFFSETFROM:-0700
TZOFFSETTO:-0800
TZNAME:PST
DTSTART:20241103T090000
END:STANDARD
BEGIN:DAYLIGHT
TZOFFSETFROM:-0800
TZOFFSETTO:-0700
TZNAME:PDT
DTSTART:20250309T100000
END:DAYLIGHT
BEGIN:STANDARD
TZOFFSETFROM:-0700
TZOFFSETTO:-0800
TZNAME:PST
DTSTART:20251102T090000
END:STANDARD
END:VTIMEZONE
BEGIN:VEVENT
DTSTART;TZID=America/Los_Angeles:20240522T093000
DTEND;TZID=America/Los_Angeles:20240522T113000
DTSTAMP:20260422T025956
CREATED:20231107T200031Z
LAST-MODIFIED:20240531T143054Z
UID:10000059-1716370200-1716377400@upvalleyfamilycenters.org
SUMMARY:Ninos Activos Active Kids Playgroup: St. Helena
DESCRIPTION:Join us for playtime\, a story and a special activity! \nFree for children ages 0-5 and their caregivers! \nWeekly on Wednesdays and Fridays from 9:30 AM – 11:30 AM \nFirst Presbyterian Church: Discovery Room \n1428 Spring St. \nFor more information: \nRaquel Vega – (707) 965-5010 \nrvega@upvalleyfamilycenters.org
URL:https://upvalleyfamilycenters.org/event/ninos-activos-active-kids-playgroup-st-helena/2024-05-22/
LOCATION:First Presbyterian Church\, 1428 Spring St.\, St. Helena\, CA\, 94574\, United States
CATEGORIES:Children,St. Helena
ATTACH;FMTTYPE=image/png:https://upvalleyfamilycenters.org/wp-content/uploads/2023/11/Screenshot-2023-11-07-121329.png
END:VEVENT
BEGIN:VEVENT
DTSTART;TZID=America/Los_Angeles:20240522T170000
DTEND;TZID=America/Los_Angeles:20240522T180000
DTSTAMP:20260422T025956
CREATED:20240509T210344Z
LAST-MODIFIED:20240509T210344Z
UID:10002687-1716397200-1716400800@upvalleyfamilycenters.org
SUMMARY:Parent Night: Tobacco Awareness & Prevention
DESCRIPTION:Learn about the dangers and warning signs of tobacco products and tips to keep youth safe.  \nDate/Time: Wednesday\, May 22nd at 5:00pm – 6:00pm \nLocation:\nPerforming Arts Center (SHHS)\n465 Main St\,\nSt Helena\, CA 94574
URL:https://upvalleyfamilycenters.org/event/parent-night-tobacco-awareness-prevention/
LOCATION:St. Helena High School\, 465 Main St.\, St. Helena\, CA\, 94574\, United States
CATEGORIES:Adult Education,St. Helena
ATTACH;FMTTYPE=image/png:https://upvalleyfamilycenters.org/wp-content/uploads/2024/05/Website-Clip-Art.png
END:VEVENT
END:VCALENDAR