BEGIN:VCALENDAR
VERSION:2.0
PRODID:-//UpValley Family Centers - ECPv6.15.17.1//NONSGML v1.0//EN
CALSCALE:GREGORIAN
METHOD:PUBLISH
X-ORIGINAL-URL:https://upvalleyfamilycenters.org
X-WR-CALDESC:Events for UpValley Family Centers
REFRESH-INTERVAL;VALUE=DURATION:PT1H
X-Robots-Tag:noindex
X-PUBLISHED-TTL:PT1H
BEGIN:VTIMEZONE
TZID:America/Los_Angeles
BEGIN:DAYLIGHT
TZOFFSETFROM:-0800
TZOFFSETTO:-0700
TZNAME:PDT
DTSTART:20230312T100000
END:DAYLIGHT
BEGIN:STANDARD
TZOFFSETFROM:-0700
TZOFFSETTO:-0800
TZNAME:PST
DTSTART:20231105T090000
END:STANDARD
BEGIN:DAYLIGHT
TZOFFSETFROM:-0800
TZOFFSETTO:-0700
TZNAME:PDT
DTSTART:20240310T100000
END:DAYLIGHT
BEGIN:STANDARD
TZOFFSETFROM:-0700
TZOFFSETTO:-0800
TZNAME:PST
DTSTART:20241103T090000
END:STANDARD
BEGIN:DAYLIGHT
TZOFFSETFROM:-0800
TZOFFSETTO:-0700
TZNAME:PDT
DTSTART:20250309T100000
END:DAYLIGHT
BEGIN:STANDARD
TZOFFSETFROM:-0700
TZOFFSETTO:-0800
TZNAME:PST
DTSTART:20251102T090000
END:STANDARD
END:VTIMEZONE
BEGIN:VEVENT
DTSTART;TZID=America/Los_Angeles:20240516T090000
DTEND;TZID=America/Los_Angeles:20240516T113000
DTSTAMP:20260420T031515
CREATED:20240131T224907Z
LAST-MODIFIED:20240501T155129Z
UID:10002032-1715850000-1715859000@upvalleyfamilycenters.org
SUMMARY:Free ESL Classes
DESCRIPTION:Free ESL Classes \nRegister in person the day you arrive. \nFebruary 6 – May 25\nTuesdays and Thursdays\n9:00 – 11:30 AM \nBoys & Girls Club Calistoga\, Learning Center \nQuestions?\nMichael Klieman\nESL Program Coordinator\nmklieman@napavalley.edu
URL:https://upvalleyfamilycenters.org/event/free-esl-classes-2/2024-05-16/
LOCATION:Boys & Girls Club Calistoga\, 1401 N Oak St.\, Calistoga\, CA\, 94515\, United States
CATEGORIES:Adult Education,Adults,Calistoga
ATTACH;FMTTYPE=image/png:https://upvalleyfamilycenters.org/wp-content/uploads/2024/01/Cap-and-Diploma-.png
END:VEVENT
BEGIN:VEVENT
DTSTART;TZID=America/Los_Angeles:20240516T093000
DTEND;TZID=America/Los_Angeles:20240516T233000
DTSTAMP:20260420T031515
CREATED:20231107T202437Z
LAST-MODIFIED:20231108T181758Z
UID:10000574-1715851800-1715902200@upvalleyfamilycenters.org
SUMMARY:Ninos Activos Active Kids Playgroup: Calistoga
DESCRIPTION:Join us for playtime\, a story and a special activity! \nFree for children ages 0-5 and their caregivers! \nWeekly on Tuesdays and Thursdays from 9:30 AM– 11:30 AM \nCalistoga Family Apartments \n1715 Washington St. \nFor more information: \nRaquel Vega – (707) 965-5010 \nrvega@upvalleyfamilycenters.org
URL:https://upvalleyfamilycenters.org/event/ninos-activos-active-kids-playgroup-calistoga/2024-05-16/
LOCATION:Calistoga Family Apartments\, 1715 Washington St.\, Calistoga\, CA\, 94515\, United States
CATEGORIES:Calistoga,Children
ATTACH;FMTTYPE=image/png:https://upvalleyfamilycenters.org/wp-content/uploads/2023/11/Screenshot-2023-11-07-121329.png
END:VEVENT
BEGIN:VEVENT
DTSTART;TZID=America/Los_Angeles:20240516T170000
DTEND;TZID=America/Los_Angeles:20240516T200000
DTSTAMP:20260420T031515
CREATED:20231108T185303Z
LAST-MODIFIED:20240501T154922Z
UID:10001046-1715878800-1715889600@upvalleyfamilycenters.org
SUMMARY:Plaza Comunitaria
DESCRIPTION:Adult classes in Spanish language literacy\, basic education and ESL classes. \nDo You want to: \n\nImprove your own Spanish reading and writing?\nEarn a basic or secondary education certificate?\nAssist your children with their schoolwork?\nSet a good academic example for your children?\nObtain a better job?\nIncrease your family’s prosperity?\nHave an easier time learning English?\nIncrease your own self esteem?\n\n Ongoing classes in Calistoga \nTime: 5:00 – 8:00 pm \nWhere: Calistoga Elementary School Library \nDays: Tuesdays and Thursdays \nTuition: It’s FREE! \nDates: Now – June 4\, 2024 \nWe offer childcare! \n  \nFor more information please contact \nOmaira Baptista – (707) 965-5010 \nobaptista@upvalleyfamilycenters.org
URL:https://upvalleyfamilycenters.org/event/plaza-comunitaria/2024-05-16/
LOCATION:Calistoga Elementary School\, 1327 Berry St\, Calistoga\, CA\, 94515\, United States
CATEGORIES:Adult Education,Adults,Calistoga
ATTACH;FMTTYPE=image/png:https://upvalleyfamilycenters.org/wp-content/uploads/2023/11/Screenshot-2023-11-08-105034.png
END:VEVENT
BEGIN:VEVENT
DTSTART;TZID=America/Los_Angeles:20240516T173000
DTEND;TZID=America/Los_Angeles:20240516T183000
DTSTAMP:20260420T031515
CREATED:20240509T211749Z
LAST-MODIFIED:20240509T211749Z
UID:10002689-1715880600-1715884200@upvalleyfamilycenters.org
SUMMARY:Calistoga Parks and Recreations Presentation
DESCRIPTION:Join us for a presentation from Calistoga Parks and Recreations to learn how and when to sign up for:\nKid’s swimming lessons\nAdult swimming lessons\nActivities and more! \nSpanish translation will be available \nWhen: May 16\, 2024\nTime: 5:30 PM – 6:30 PM\nWhere: Palisades Community Center\n       40 Brannan St\, Calistoga \nFor questions call Jessica Cruz\n707-965-5010 ext. 401
URL:https://upvalleyfamilycenters.org/event/calistoga-parks-and-recreations-presentation/
LOCATION:Palisades Community Center\, 40 Brannan St.\, Calistoga\, CA\, 94515\, United States
CATEGORIES:Calistoga
ATTACH;FMTTYPE=image/png:https://upvalleyfamilycenters.org/wp-content/uploads/2024/05/Website-Clip-Art-12.png
END:VEVENT
BEGIN:VEVENT
DTSTART;TZID=America/Los_Angeles:20240516T180000
DTEND;TZID=America/Los_Angeles:20240516T200000
DTSTAMP:20260420T031515
CREATED:20240131T224328Z
LAST-MODIFIED:20240501T154804Z
UID:10001896-1715882400-1715889600@upvalleyfamilycenters.org
SUMMARY:Free ESL Classes
DESCRIPTION:Free ESL Classes \nRegister in person the day you arrive. \nJanuary 30 – May 25\nTuesdays and Thursdays\n6:00-8:00 PM \nCalistoga Elementary School\, Room 9 \nQuestions?\nMichael Klieman\nESL Program Coordinator\nmklieman@napavalley.edu
URL:https://upvalleyfamilycenters.org/event/free-esl-classes/2024-05-16/
LOCATION:Calistoga Elementary School\, 1327 Berry St\, Calistoga\, CA\, 94515\, United States
CATEGORIES:Adult Education,Adults,Calistoga
ATTACH;FMTTYPE=image/png:https://upvalleyfamilycenters.org/wp-content/uploads/2024/01/Cap-and-Diploma-.png
END:VEVENT
END:VCALENDAR