BEGIN:VCALENDAR
VERSION:2.0
PRODID:-//UpValley Family Centers - ECPv6.15.17.1//NONSGML v1.0//EN
CALSCALE:GREGORIAN
METHOD:PUBLISH
X-ORIGINAL-URL:https://upvalleyfamilycenters.org
X-WR-CALDESC:Events for UpValley Family Centers
REFRESH-INTERVAL;VALUE=DURATION:PT1H
X-Robots-Tag:noindex
X-PUBLISHED-TTL:PT1H
BEGIN:VTIMEZONE
TZID:America/Los_Angeles
BEGIN:DAYLIGHT
TZOFFSETFROM:-0800
TZOFFSETTO:-0700
TZNAME:PDT
DTSTART:20230312T100000
END:DAYLIGHT
BEGIN:STANDARD
TZOFFSETFROM:-0700
TZOFFSETTO:-0800
TZNAME:PST
DTSTART:20231105T090000
END:STANDARD
BEGIN:DAYLIGHT
TZOFFSETFROM:-0800
TZOFFSETTO:-0700
TZNAME:PDT
DTSTART:20240310T100000
END:DAYLIGHT
BEGIN:STANDARD
TZOFFSETFROM:-0700
TZOFFSETTO:-0800
TZNAME:PST
DTSTART:20241103T090000
END:STANDARD
BEGIN:DAYLIGHT
TZOFFSETFROM:-0800
TZOFFSETTO:-0700
TZNAME:PDT
DTSTART:20250309T100000
END:DAYLIGHT
BEGIN:STANDARD
TZOFFSETFROM:-0700
TZOFFSETTO:-0800
TZNAME:PST
DTSTART:20251102T090000
END:STANDARD
END:VTIMEZONE
BEGIN:VEVENT
DTSTART;TZID=America/Los_Angeles:20240515T093000
DTEND;TZID=America/Los_Angeles:20240515T113000
DTSTAMP:20260420T063212
CREATED:20231107T200031Z
LAST-MODIFIED:20240531T143054Z
UID:10000057-1715765400-1715772600@upvalleyfamilycenters.org
SUMMARY:Ninos Activos Active Kids Playgroup: St. Helena
DESCRIPTION:Join us for playtime\, a story and a special activity! \nFree for children ages 0-5 and their caregivers! \nWeekly on Wednesdays and Fridays from 9:30 AM – 11:30 AM \nFirst Presbyterian Church: Discovery Room \n1428 Spring St. \nFor more information: \nRaquel Vega – (707) 965-5010 \nrvega@upvalleyfamilycenters.org
URL:https://upvalleyfamilycenters.org/event/ninos-activos-active-kids-playgroup-st-helena/2024-05-15/
LOCATION:First Presbyterian Church\, 1428 Spring St.\, St. Helena\, CA\, 94574\, United States
CATEGORIES:Children,St. Helena
ATTACH;FMTTYPE=image/png:https://upvalleyfamilycenters.org/wp-content/uploads/2023/11/Screenshot-2023-11-07-121329.png
END:VEVENT
BEGIN:VEVENT
DTSTART;TZID=America/Los_Angeles:20240515T110000
DTEND;TZID=America/Los_Angeles:20240515T130000
DTSTAMP:20260420T063212
CREATED:20240405T150035Z
LAST-MODIFIED:20240405T150035Z
UID:10002146-1715770800-1715778000@upvalleyfamilycenters.org
SUMMARY:Lunch and Learn
DESCRIPTION:Lunch and Learn\nHosted by Rianda House and UpValley Family Centers \nLunch and Learn is a monthly meeting for older adults focused on enhancing community connections and providing informational resources. Each month a guest speaker will present and provide education on a different topic.\nFree lunch is provided for all participants.  \nWhen: 3rd Wednesday of every month\nWhere: Calistoga Community Center\n       1307 Washington St\, Calistoga\nTime: 11 AM – 1 PM \nApril 17th Meeting: Continuum Hospice\nLearn about Continuum Hospice and the collection of extensive services they offer. \nMay 15th Meeting: Molly’s Angels\nMolly’s Angels ensures access to transportation\, mental health screenings\, and other essential services. \nJune 19th Meeting: Summer Celebration!\nJoin us for a summer celebration filled with games\, raffle prizes\, and lunch\nPlease note: This event will be held at Pioneer Park \nSign ups are required at least one day before the meeting. Call or email:\nAmanda Cole\, Rianda House Program Director\n707-963-8555 ext. 104 or amanda@riandahouse.org  \nPresentations are in English only
URL:https://upvalleyfamilycenters.org/event/lunch-and-learn/2024-05-15/
LOCATION:Calistoga Community Center\, 1307 Washington St.\, Calistoga\, 94515\, United States
CATEGORIES:Calistoga,Older Adults
ATTACH;FMTTYPE=image/png:https://upvalleyfamilycenters.org/wp-content/uploads/2024/04/Website-Clip-Art-6.png
END:VEVENT
END:VCALENDAR