BEGIN:VCALENDAR
VERSION:2.0
PRODID:-//UpValley Family Centers - ECPv6.15.17.1//NONSGML v1.0//EN
CALSCALE:GREGORIAN
METHOD:PUBLISH
X-ORIGINAL-URL:https://upvalleyfamilycenters.org
X-WR-CALDESC:Events for UpValley Family Centers
REFRESH-INTERVAL;VALUE=DURATION:PT1H
X-Robots-Tag:noindex
X-PUBLISHED-TTL:PT1H
BEGIN:VTIMEZONE
TZID:America/Los_Angeles
BEGIN:DAYLIGHT
TZOFFSETFROM:-0800
TZOFFSETTO:-0700
TZNAME:PDT
DTSTART:20230312T100000
END:DAYLIGHT
BEGIN:STANDARD
TZOFFSETFROM:-0700
TZOFFSETTO:-0800
TZNAME:PST
DTSTART:20231105T090000
END:STANDARD
BEGIN:DAYLIGHT
TZOFFSETFROM:-0800
TZOFFSETTO:-0700
TZNAME:PDT
DTSTART:20240310T100000
END:DAYLIGHT
BEGIN:STANDARD
TZOFFSETFROM:-0700
TZOFFSETTO:-0800
TZNAME:PST
DTSTART:20241103T090000
END:STANDARD
BEGIN:DAYLIGHT
TZOFFSETFROM:-0800
TZOFFSETTO:-0700
TZNAME:PDT
DTSTART:20250309T100000
END:DAYLIGHT
BEGIN:STANDARD
TZOFFSETFROM:-0700
TZOFFSETTO:-0800
TZNAME:PST
DTSTART:20251102T090000
END:STANDARD
END:VTIMEZONE
BEGIN:VEVENT
DTSTART;TZID=America/Los_Angeles:20240508T093000
DTEND;TZID=America/Los_Angeles:20240508T113000
DTSTAMP:20260420T044439
CREATED:20231107T200031Z
LAST-MODIFIED:20240531T143054Z
UID:10000055-1715160600-1715167800@upvalleyfamilycenters.org
SUMMARY:Ninos Activos Active Kids Playgroup: St. Helena
DESCRIPTION:Join us for playtime\, a story and a special activity! \nFree for children ages 0-5 and their caregivers! \nWeekly on Wednesdays and Fridays from 9:30 AM – 11:30 AM \nFirst Presbyterian Church: Discovery Room \n1428 Spring St. \nFor more information: \nRaquel Vega – (707) 965-5010 \nrvega@upvalleyfamilycenters.org
URL:https://upvalleyfamilycenters.org/event/ninos-activos-active-kids-playgroup-st-helena/2024-05-08/
LOCATION:First Presbyterian Church\, 1428 Spring St.\, St. Helena\, CA\, 94574\, United States
CATEGORIES:Children,St. Helena
ATTACH;FMTTYPE=image/png:https://upvalleyfamilycenters.org/wp-content/uploads/2023/11/Screenshot-2023-11-07-121329.png
END:VEVENT
BEGIN:VEVENT
DTSTART;TZID=America/Los_Angeles:20240508T173000
DTEND;TZID=America/Los_Angeles:20240508T193000
DTSTAMP:20260420T044439
CREATED:20240409T170957Z
LAST-MODIFIED:20240409T170957Z
UID:10002153-1715189400-1715196600@upvalleyfamilycenters.org
SUMMARY:Emergency Preparedness Workshop
DESCRIPTION:Are you ready for an emergency?\nJoin us for an emergency preparedness and finance workshop! \n**Workshop is in Spanish only** \nDate: Wednesday\, May 8\, 2024\nTime: 5:30 PM – 7:30 PM\nWhere: Hunt’s Grove Apartments\n548 Hunt Ave.\nSt. Helena\, CA 94574 \nParticipants will receive 1 emergency backpack per family. \nRegistration is required to attend this event. For more information or to sign up\, contact:\nOmaira Baptista\n707-965-5010 ext. 404\nobaptista@upvalleyfamilycenters.org
URL:https://upvalleyfamilycenters.org/event/emergency-preparedness-workshop/
LOCATION:Hunt’s Grove Apartments\, 548 Hunt Ave.\, St. Helena\, CA\, 94574\, United States
CATEGORIES:Adult Education,St. Helena
ATTACH;FMTTYPE=image/png:https://upvalleyfamilycenters.org/wp-content/uploads/2024/04/Website-Clip-Art-10.png
END:VEVENT
END:VCALENDAR